BEGIN:VCALENDAR
VERSION:2.0
PRODID:-// - ECPv6.15.20//NONSGML v1.0//EN
CALSCALE:GREGORIAN
METHOD:PUBLISH
X-ORIGINAL-URL:https://teknes.art
X-WR-CALDESC:Eventi per 
REFRESH-INTERVAL;VALUE=DURATION:PT1H
X-Robots-Tag:noindex
X-PUBLISHED-TTL:PT1H
BEGIN:VTIMEZONE
TZID:Europe/Berlin
BEGIN:DAYLIGHT
TZOFFSETFROM:+0100
TZOFFSETTO:+0200
TZNAME:CEST
DTSTART:20240331T010000
END:DAYLIGHT
BEGIN:STANDARD
TZOFFSETFROM:+0200
TZOFFSETTO:+0100
TZNAME:CET
DTSTART:20241027T010000
END:STANDARD
BEGIN:DAYLIGHT
TZOFFSETFROM:+0100
TZOFFSETTO:+0200
TZNAME:CEST
DTSTART:20250330T010000
END:DAYLIGHT
BEGIN:STANDARD
TZOFFSETFROM:+0200
TZOFFSETTO:+0100
TZNAME:CET
DTSTART:20251026T010000
END:STANDARD
BEGIN:DAYLIGHT
TZOFFSETFROM:+0100
TZOFFSETTO:+0200
TZNAME:CEST
DTSTART:20260329T010000
END:DAYLIGHT
BEGIN:STANDARD
TZOFFSETFROM:+0200
TZOFFSETTO:+0100
TZNAME:CET
DTSTART:20261025T010000
END:STANDARD
END:VTIMEZONE
BEGIN:VEVENT
DTSTART;TZID=Europe/Berlin:20250209T100000
DTEND;TZID=Europe/Berlin:20250209T120000
DTSTAMP:20260420T073052
CREATED:20250203T151501Z
LAST-MODIFIED:20250203T151555Z
UID:9842-1739095200-1739102400@teknes.art
SUMMARY:Passeggiata fotografica - MONTENUOVO
DESCRIPTION:
URL:https://teknes.art/evento/passeggiata-fotografica-montenuovo/
LOCATION:Oasi naturalistica di Montenuovo\, via Icaro\, Pozzuoli\, Italy
CATEGORIES:Passeggiata Fotografica
ATTACH;FMTTYPE=image/jpeg:https://teknes.art/wp-content/uploads/2025/02/passeggiata-monte-nuovo.jpg
END:VEVENT
BEGIN:VEVENT
DTSTART;TZID=Europe/Berlin:20250215T100000
DTEND;TZID=Europe/Berlin:20250215T120000
DTSTAMP:20260420T073052
CREATED:20250203T174817Z
LAST-MODIFIED:20250204T184553Z
UID:9858-1739613600-1739620800@teknes.art
SUMMARY:Passeggiata fotografica con visita alla Basilica di San Giovanni Maggiore
DESCRIPTION:Il gruppo di fotografi Ass è mazz\, ha organizzato\, con l’associazione culturale TèKnes\, una visita culturale/fotografica presso la Basilica di San Giovanni Maggiore di Napoli.La Chiesa dedicata a S. Giovanni Battista è una delle più antiche basiliche paleocristiane di Napoli e fu fondata\, secondo la tradizione\, da Costantino nel III sec. d.C. sul luogo dove sorgeva un tempio voluto dall’imperatore Adriano in memoria dell’amato Antinoo.Saremo accompagnati dai volontari dell’Associazione Artenhope A.P.S. nella visita alla basilica\, che\, con le loro annotazioni storico artistiche\, esposizioni particolareggiate \, arricchiranno la visita con storie ed aneddoti alla scoperta di memorie e leggende.La visita ha il costo di 5 € a persona.Il ricavato delle iniziative va alla raccolta fondi per il restauro e la manutenzione delle opere d’arte presenti in Basilica e dei dipinti che devono tornare.La visita ha la durata di circa 1 ora e mezza.Consiglio fotografico: ottiche grandangolari possibilmente luminose.Per info e prenotazioniLeandro 3333537024.Salvatore 3923552134
URL:https://teknes.art/evento/passeggiata-fotografica-con-visita-alla-basilica-di-san-giovanni-maggiore/
LOCATION:via San Giovanni Maggiore\, Via San Giovanni Maggiore\, NAPOLI
CATEGORIES:Passeggiata Fotografica
ATTACH;FMTTYPE=image/jpeg:https://teknes.art/wp-content/uploads/2025/02/ass-e-mazz-passeggiata.jpg
END:VEVENT
BEGIN:VEVENT
DTSTART;TZID=Europe/Berlin:20250219T180000
DTEND;TZID=Europe/Berlin:20250219T193000
DTSTAMP:20260420T073052
CREATED:20250203T152526Z
LAST-MODIFIED:20250218T180123Z
UID:9847-1739988000-1739993400@teknes.art
SUMMARY:New Start 8 incontri per il tuo benessere
DESCRIPTION:NEW START – 8 INCONTRI PER IL TUO BENESSERE – 2 | EsercizioA cura di Diana Caliman\, naturopata.\n Il benessere potrebbe essere definito come “uno star bene dentro di noi”\, e un po’ tutti aneliamo a raggiungere questo stato ricercandolo nell’alimentazione\, nel controllo dello stress e nell’esercizio fisico\, dimenticando che la buona riuscita dipende da più fattori.L’acronimo NEW START li raccoglie tutti e noi avremo modo di affrontarli e conoscerli insieme.\n Il secondo incontro\, che corrisponde a ESERCIZIO\, riguarda una pratica che non occorre fare necessariamente in palestra.L’uomo è nato per “muoversi”\, infatti c’è un detto che dice: “ognuno di noi ha due dottori che sono la gamba destra e la gamba sinistra”.Insieme cercheremo di ricordarci perché il corpo migliora con l’esercizio\, perché la sedentarietà blocca le nostre funzionalità.E per farlo praticheremo esercizi semplici che potremo poi fare tranquillamente nelle nostre case.\n Vi aspetto per proseguire insieme questo meraviglioso percorso!\n L’incontro si svolge a Pianura\, c’è la possibilità di parcheggiare. Ai partecipanti sarà fornito l’indirizzo di Diana. Faremo una gustosa pausa tisana/caffè Quota di partecipazione €7iscrizione a tutto il ciclo NEW START €40\n Prenota inviando una mail a teknes.ac@gmail.com\nmax 8 partecipanti
URL:https://teknes.art/evento/new-start-8-incontri-per-il-tuo-benessere/
LOCATION:Napoli\, via Montagna Spaccata\, Napoli\, Italia\, NA\, Italy
CATEGORIES:Ikigai - mandala
ATTACH;FMTTYPE=image/png:https://teknes.art/wp-content/uploads/2025/02/NEW-START_02-O.png
END:VEVENT
BEGIN:VEVENT
DTSTART;TZID=Europe/Berlin:20250223T100000
DTEND;TZID=Europe/Berlin:20250223T113000
DTSTAMP:20260420T073052
CREATED:20250203T153239Z
LAST-MODIFIED:20250203T153856Z
UID:9853-1740304800-1740310200@teknes.art
SUMMARY:Photobook club - Napoli sempre - Arturo Fratta
DESCRIPTION:Il PHOTOBOOK CLUB di Téknes è la nostra versione dei Book Club\, ovvero dei club del libro\, i gruppi di lettura che si riuniscono con una cadenza fissa per discutere di libri letti insieme\, se non addirittura per leggerli insieme.I nostri incontri saranno dedicati all’approfondimento di un libro fotografico e del relativo autore.\n L’idea è di incontrarci l’ultimo weekend del mese\, di domenica mattina\, e di chiacchierare in compagnia di un buon libro fotografico e di un caffè con brioche.Una colazione foto-letteraria\, adatta a tutti.\n Questa volta leggeremo il libro di Arturo Fratta “NAPOLI SEMPRE”\, un libro che nasce\, come dice l’autore stesso\, “da un’intima esigenza di verità\, per riproporre un’immagine della città che non fosse quella creata da certe interpretazioni documentaristiche o letterarie”. Un modo vedere Napoli\, di sentirla.NAPOLI SEMPRE. Arturo FrattaE.D.A.R.T\, 1970.\n23 FEBBRAIO dalle 10:00 alle 11:30max 8 partecipantiprenotazione  teknes.ac@gmail.com\n\nQuota di partecipazione € 5Casa di Antonella in via Tasso parte alta (Parco Matarazzo)\, NapoliL’indirizzo preciso sarà fornito via mail ai partecipanti.  \nMostra meno
URL:https://teknes.art/evento/9853/
CATEGORIES:Photo Book Club
END:VEVENT
END:VCALENDAR