BEGIN:VCALENDAR
VERSION:2.0
PRODID:-// - ECPv6.15.20//NONSGML v1.0//EN
CALSCALE:GREGORIAN
METHOD:PUBLISH
X-ORIGINAL-URL:https://teknes.art
X-WR-CALDESC:Eventi per 
REFRESH-INTERVAL;VALUE=DURATION:PT1H
X-Robots-Tag:noindex
X-PUBLISHED-TTL:PT1H
BEGIN:VTIMEZONE
TZID:Europe/Berlin
BEGIN:DAYLIGHT
TZOFFSETFROM:+0100
TZOFFSETTO:+0200
TZNAME:CEST
DTSTART:20230326T010000
END:DAYLIGHT
BEGIN:STANDARD
TZOFFSETFROM:+0200
TZOFFSETTO:+0100
TZNAME:CET
DTSTART:20231029T010000
END:STANDARD
BEGIN:DAYLIGHT
TZOFFSETFROM:+0100
TZOFFSETTO:+0200
TZNAME:CEST
DTSTART:20240331T010000
END:DAYLIGHT
BEGIN:STANDARD
TZOFFSETFROM:+0200
TZOFFSETTO:+0100
TZNAME:CET
DTSTART:20241027T010000
END:STANDARD
BEGIN:DAYLIGHT
TZOFFSETFROM:+0100
TZOFFSETTO:+0200
TZNAME:CEST
DTSTART:20250330T010000
END:DAYLIGHT
BEGIN:STANDARD
TZOFFSETFROM:+0200
TZOFFSETTO:+0100
TZNAME:CET
DTSTART:20251026T010000
END:STANDARD
END:VTIMEZONE
BEGIN:VEVENT
DTSTART;TZID=Europe/Berlin:20241213T190000
DTEND;TZID=Europe/Berlin:20241213T210000
DTSTAMP:20260420T105933
CREATED:20241204T143133Z
LAST-MODIFIED:20241210T174106Z
UID:8184-1734116400-1734123600@teknes.art
SUMMARY:Talk di Fotografia - il potere del momento
DESCRIPTION:IL POTERE DEL MOMENTO – Le fotografie Storiche più Influenti di tutti i Tempi.\na cura di Enrico Della Pietra \n13 dicembre – dalle 19:00 alle 21:00\nAssociazione Culturale Sebezia Onlus\nvia Suarez 12\, oppure Rampe Siani 2\, citofono 117\, Napoli\nQuota partecipazione €10 / €8 (soci) \nIL POTERE DEL MOMENTO è un viaggio attraverso un serie di fotografie che si sono associate a un evento storico o che esse stesse hanno rappresentato un punto di svolta\, diventando iconiche e rappresentative di quel determinato evento. \nProveremo così a osservare\, scoprire o riscoprire\, e discutere su quelle fotografie spesso note in tutto il mondo per il loro forte simbolismo; partendo dal XIX secolo\, seguiremo un percorso cronologico\, passando per tutto il XX secolo\, fino ai nostri giorni. \nI nostri Talks sono ospitati a Napoli dall’Associazione Culturale Sebezia Onlus\, che ha due possibili accessi: via Suarez 12\, oppure Rampe Siani 2\, citofono 117 in entrambi i casi. L’evento sarà accompagnato da un brunch.\nLa quota di partecipazione è €8 per i soci Téknes\, €10 per chi non è socio.\nÈ gradita la prenotazione via mail scrivendo “prenotazione Talk Fotografico ” nell’oggetto.
URL:https://teknes.art/evento/talk-di-fotografia-il-potere-del-momento/
LOCATION:Associazione Culturale Sebezia Onlus\, Via Suarez 12\, Napoli\, 80127\, Italy
CATEGORIES:Talk Fotografici
ATTACH;FMTTYPE=image/png:https://teknes.art/wp-content/uploads/2024/12/8-potere-del-momento_locandina.png
ORGANIZER;CN="Enrico Della Pietra/Francesca Sciarra":MAILTO:teknes.ac@gmail.com
END:VEVENT
BEGIN:VEVENT
DTSTART;TZID=Europe/Berlin:20241222T173000
DTEND;TZID=Europe/Berlin:20241222T190000
DTSTAMP:20260420T105933
CREATED:20241210T175502Z
LAST-MODIFIED:20241210T175714Z
UID:8623-1734888600-1734894000@teknes.art
SUMMARY:Ikigai
DESCRIPTION:COLORIAMO I PETALI DEL NOSTRO FIORE – Laboratorio di Ikigai\nA cura di Diana Caliman\, naturopata.\n“Trovo che il concetto di Ikigai sia molto affascinante e utile specialmente per noi occidentali\, spesso tormentati da dubbi esistenziali a cui non riusciamo a trovare una risposta.Uno su tutti: qual è lo scopo della mia vita?” (cit.)\n Scopri il tuo Ikigai\, la ragione per cui ti svegli ogni mattina! \nHai mai sentito parlare di Ikigai\, il concetto giapponese che unisce passione\, talento\, professione e missione?\nTi invitiamo a un incontro unico dove potrai: Riflettere su ciò che ti rende veramente felice. Esplorare i tuoi talenti e i tuoi valori più profondi. Iniziare il percorso per trovare il tuo Ikigai e dare più significato alla tua vita.\n L’incontro si svolge a Pianura\, c’è la possibilità di parcheggiare. Ai partecipanti sarà fornito l’indirizzo di Diana. Faremo una gustosa pausa tisana/caffè Quota di partecipazione €6 (per i soci €4) Prenota inviando una mail a teknes.ac@gmail.com
URL:https://teknes.art/evento/ikigai/
CATEGORIES:Ikigai - mandala
ATTACH;FMTTYPE=image/png:https://teknes.art/wp-content/uploads/2024/12/IKIGAI_01.png
END:VEVENT
BEGIN:VEVENT
DTSTART;TZID=Europe/Berlin:20241228T173000
DTEND;TZID=Europe/Berlin:20241228T200000
DTSTAMP:20260420T105933
CREATED:20241208T160209Z
LAST-MODIFIED:20250526T080004Z
UID:8370-1735407000-1735416000@teknes.art
SUMMARY:Le foto di Natale
DESCRIPTION:Cari amici\,Siete invitati a partecipare a un magico incontro natalizio a casa di Enrico\, dove condivideremo risate\, calore e un’attività speciale pensata per rendere la serata unica.\n Sabato 28 dicembre dalle 17:30 alle 20:00 circa A Casa di Enrico a Soccavo (ai partecipanti sarà dato l’indirizzo preciso)\n Come partecipare.Oltre alla vostra presenza\, c’è un piccolo compito da svolgere:1. Portate una vostra foto stampata. Può essere una foto d’archivio\, oppure recente\, una foto divertente o un’immagine che vi rappresenta.2. Impacchettate la foto come un regalo. Usate carta regalo\, fiocchi o qualsiasi decorazione vogliate.\nDurante la serata\, faremo un’estrazione a sorpresa e ciascuno riceverà in dono la foto di qualcun altro. Un modo speciale per condividere ricordi e momenti!\n Dress code (facoltativo)Sentitevi liberi di indossare qualcosa di natalizio per entrare nello spirito delle feste!\nNon vediamo l’ora di trascorrere questa serata insieme e di creare nuovi ricordi.Per confermare la vostra partecipazione o per qualsiasi domanda\, scriveteci a  teknes.ac@gmail.com\nA presto! 
URL:https://teknes.art/evento/le-foto-di-natale/
LOCATION:Casa di Francesca vomero\, Via San Domenico\, Napoli\, Italia\, NA\, 80127\, Italy
CATEGORIES:teknes
ATTACH;FMTTYPE=image/png:https://teknes.art/wp-content/uploads/2024/12/LE-FOTO-DI-NATALE.png
END:VEVENT
BEGIN:VEVENT
DTSTART;TZID=Europe/Berlin:20241229T100000
DTEND;TZID=Europe/Berlin:20241229T110000
DTSTAMP:20260420T105933
CREATED:20241210T175010Z
LAST-MODIFIED:20241210T175118Z
UID:8616-1735466400-1735470000@teknes.art
SUMMARY:La linea inesistente - viaggio lungo la ex cortina di ferro
DESCRIPTION:Il PHOTOBOOK CLUB di Téknes è la nostra versione dei Book Club\, ovvero dei club del libro\, i gruppi di lettura che si riuniscono con una cadenza fissa per discutere di libri letti insieme\, se non addirittura per leggerli insieme.I nostri incontri saranno dedicati all’approfondimento di un libro fotografico e del relativo autore.\n L’idea è di incontrarci l’ultimo weekend del mese\, di domenica mattina\, e di chiacchierare in compagnia di un buon libro fotografico e di un caffè con brioche.Una colazione foto-letteraria\, adatta a tutti.\n Questa volta leggeremo il libro di Davide Monteleone “LA LINEA INESISTENTE. VIAGGIO LUNGO LA EX CORTINA DI FERRO”\, uno splendido reportage simbolico lungo l’ex cortina di ferro\, tra spazio e tempo\, seguendo le tracce di una storia che rischia di essere dimenticata. Un diario intimo e diretto\, che intreccia esperienze vissute\, memoria collettiva e immagini che invitano a riflettere.\nUnica Edizione\, 2009. LA LINEA INESISTENTE. VIAGGIO LUNGO LA EX CORTINA DI FERRO | Davide Monteleone29 dicembre dalle 10:00 alle 11:30max 8 partecipantiprenotazione  teknes.ac@gmail.com\nQuota di partecipazione € 4Casa di Antonella in via Tasso parte alta (Parco Matarazzo)\, NapoliL’indirizzo preciso sarà fornito via mail ai partecipanti. 
URL:https://teknes.art/evento/la-linra-inesistente-viaggio-lungo-la-ex-cortina-di-ferro/
CATEGORIES:Photo Book Club
ATTACH;FMTTYPE=image/png:https://teknes.art/wp-content/uploads/2024/12/PHOTOBOOK-CLUB-06_LA-LINEA-INESISTENTE-3.png
END:VEVENT
BEGIN:VEVENT
DTSTART;TZID=Europe/Berlin:20241230T103000
DTEND;TZID=Europe/Berlin:20241230T123000
DTSTAMP:20260420T105933
CREATED:20241228T160552Z
LAST-MODIFIED:20241228T160645Z
UID:8887-1735554600-1735561800@teknes.art
SUMMARY:Fotopasseggi
DESCRIPTION:Andiamo insieme per mostre (fotografiche e non)?\nSe vi piace l’idea sperimentiamola lunedì 30 dicembre alle 10:30.\nSegnatevi l’appuntamento!\n\n\nSenza prenotazione\, vi aspettiamo lunedì 30 dicembre alle 10:30 a via Duomo\, angolo via Tribunali\, davanti al bar Coffee Time.\n 
URL:https://teknes.art/evento/fotopasseggi/
LOCATION:via duomo bar coffee time\, via Duomo\, Napoli\, Italai
CATEGORIES:Attività
END:VEVENT
END:VCALENDAR