BEGIN:VCALENDAR
VERSION:2.0
PRODID:-// - ECPv6.15.20//NONSGML v1.0//EN
CALSCALE:GREGORIAN
METHOD:PUBLISH
X-ORIGINAL-URL:https://teknes.art
X-WR-CALDESC:Eventi per 
REFRESH-INTERVAL;VALUE=DURATION:PT1H
X-Robots-Tag:noindex
X-PUBLISHED-TTL:PT1H
BEGIN:VTIMEZONE
TZID:Europe/Berlin
BEGIN:DAYLIGHT
TZOFFSETFROM:+0100
TZOFFSETTO:+0200
TZNAME:CEST
DTSTART:20230326T010000
END:DAYLIGHT
BEGIN:STANDARD
TZOFFSETFROM:+0200
TZOFFSETTO:+0100
TZNAME:CET
DTSTART:20231029T010000
END:STANDARD
BEGIN:DAYLIGHT
TZOFFSETFROM:+0100
TZOFFSETTO:+0200
TZNAME:CEST
DTSTART:20240331T010000
END:DAYLIGHT
BEGIN:STANDARD
TZOFFSETFROM:+0200
TZOFFSETTO:+0100
TZNAME:CET
DTSTART:20241027T010000
END:STANDARD
BEGIN:DAYLIGHT
TZOFFSETFROM:+0100
TZOFFSETTO:+0200
TZNAME:CEST
DTSTART:20250330T010000
END:DAYLIGHT
BEGIN:STANDARD
TZOFFSETFROM:+0200
TZOFFSETTO:+0100
TZNAME:CET
DTSTART:20251026T010000
END:STANDARD
END:VTIMEZONE
BEGIN:VEVENT
DTSTART;TZID=Europe/Berlin:20240526T100000
DTEND;TZID=Europe/Berlin:20240526T113000
DTSTAMP:20260419T221452
CREATED:20240514T145323Z
LAST-MODIFIED:20240514T150356Z
UID:3911-1716717600-1716723000@teknes.art
SUMMARY:Photobook Club
DESCRIPTION:Il PHOTOBOOK CLUB di Téknes è la nostra versione dei Book Club\, ovvero dei club del libro\, i gruppi di lettura che si riuniscono con una cadenza fissa per discutere di libri letti insieme\, se non addirittura per leggerli insieme.\n\nI nostri incontri saranno dedicati all’approfondimento di un libro fotografico e del relativo autore.\n\n L’idea è di incontrarci l’ultimo weekend del mese\, di sabato o domenica mattina\, e di chiacchierare in compagnia di un buon libro fotografico e di un caffè con brioche.Una colazione fotoletteraria\, insomma.\n\nPrima Edizione IL PROFILO DELLE NUVOLE | Luigi Ghirri26 maggio dalle 10:00 alle 11:20max 10 partecipanti\n\nprenotazione  teknes.ac@gmail.com\n\nQuota di partecipazione € 6 (per i soci Téknes € 4)\n\nBar Centrale 4.0\, Piazza Fuga 1\, Vomero\, Napoli
URL:https://teknes.art/evento/photobook-club/
LOCATION:bar centrale\, Piazza Ferdinando Fuga 1\, Napoli\, 80127\, Italia
ATTACH;FMTTYPE=image/png:https://teknes.art/wp-content/uploads/2024/05/PHOTOBOOK-LAB-01-IL-PROFILO-DELLE-NUVOLE-1.png
ORGANIZER;CN="Enrico Della Pietra/Francesca Sciarra":MAILTO:teknes.ac@gmail.com
END:VEVENT
BEGIN:VEVENT
DTSTART;TZID=Europe/Berlin:20240517T190000
DTEND;TZID=Europe/Berlin:20240517T210000
DTSTAMP:20260419T221452
CREATED:20240507T071648Z
LAST-MODIFIED:20240507T072433Z
UID:3847-1715972400-1715979600@teknes.art
SUMMARY:Parabellum
DESCRIPTION:PARABELLUM rappresenta un’esplorazione\, attraverso iconiche immagine di alcuni dei più grandi fotografi\, dei conflitti che hanno caratterizzato il XX secolo e l’inizio di quello successivo.  dal dopoguerra all’Italia contemporanea. I conflitti vengono raccontati attraverso prospettive talvolta crudeli e dirette\, ma spesso anche con uno sguardo umanistico\, che ne rileva la sofferenza umana sia della vittime che dei carnefici. In questo contesto\, il fotografo non è esente dal partecipare\, pagandone un prezzo\, al travaglio che una guerra comporta. \nLe fotografie di questo Talk rappresentano\, dunque\, un documento essenziale per comprendere uno dei secoli più travagliati della storia\, spingendoci a riflettere sia sulla fotografia di guerra che sulla natura talvolta crudele dell’essere umano. \nI nostri Talks sono ospitati a Napoli dall”Associazione Culturale Sebezia Onlus\, che ha due possibili accessi: via Suarez 12\, oppure Rampe Siani 2\, citofono 117 in entrambi i casi. L’evento sarà accompagnato da un brunch.\nLa quota di partecipazione è €10 per i soci Téknes\, €12 per chi non è socio. \nÈ gradita la prenotazione via mail scrivendo “prenotazione talk Napoli” nell’oggetto.\n📌 teknes.ac@gmail.com \nL’evento è a cura di Enrico Della Pietra\, con la collaborazione di Francesca Sciarra. \n 
URL:https://teknes.art/evento/parabellum/
LOCATION:Chiesa di San Girolamo delle Monache\, Via Mezzocannone 101\, Napoli\, 80127\, Italia
CATEGORIES:Talk Fotografici
ATTACH;FMTTYPE=image/png:https://teknes.art/wp-content/uploads/2024/05/parabellum-Napoli.png
ORGANIZER;CN="Enrico Della Pietra/Francesca Sciarra":MAILTO:teknes.ac@gmail.com
END:VEVENT
BEGIN:VEVENT
DTSTART;TZID=Europe/Berlin:20240406T183000
DTEND;TZID=Europe/Berlin:20240406T200000
DTSTAMP:20260419T221452
CREATED:20240326T194830Z
LAST-MODIFIED:20240603T102407Z
UID:1967-1712428200-1712433600@teknes.art
SUMMARY:L'Italia e gli Italiani
DESCRIPTION:L’ITALIA E GLI ITALIANI è il primo appuntamento di una serie di incontri tematici sulla fotografia d’autore.\nGli incontri\, a cadenza mensile\, hanno il formato dei Talks\, una discussione aperta e spontanea su una delle più potenti arti visive\, la fotografia.\nAttraverso le immagini di alcuni dei più importanti fotografi degli ultimi decenni\, affronteremo le tematiche storico-sociologiche trattate nelle immagini\, le motivazioni personali del fotografo\, i principi compositivi che le rendono potenti e comunicative.\nI Talks sono accessibili sia a chi di fotografia si interessa a tutti i livelli\, sia a chi sia semplicemente interessato a vivere un incontro culturale e informativo.\nL’ITALIA E GLI ITALIANI rappresenta un viaggio nel Belpaese\, dal dopoguerra all’Italia contemporanea.\nI nostri Talks sono ospitati a Napoli dall”Associazione Culturale Sebezia Onlus\, che ha due possibili accessi: via Suarez 12\, oppure Rampe Siani 2\, citofono 117 in entrambi i casi. L’evento sarà accompagnato da un brunch.\nLa quota di partecipazione è €10 per i soci Téknes\, €12 per chi non è socio.\nÈ gradita la prenotazione contattandoci in privato via mail e scrivendo “prenotazione talk Napoli” nell’oggetto.\n teknes.ac@gmail.com\nL’evento è a cura di Enrico Della Pietra\, con la collaborazione di Francesca Sciarra.
URL:https://teknes.art/evento/litalia-e-gli-italiani/
LOCATION:Chiesa di San Girolamo delle Monache\, Via Mezzocannone 101\, Napoli\, 80127\, Italia
CATEGORIES:Talk Fotografici
ORGANIZER;CN="Enrico Della Pietra/Francesca Sciarra":MAILTO:teknes.ac@gmail.com
END:VEVENT
BEGIN:VEVENT
DTSTART;TZID=Europe/Berlin:20240405T200000
DTEND;TZID=Europe/Berlin:20240405T213000
DTSTAMP:20260419T221452
CREATED:20240326T155043Z
LAST-MODIFIED:20240327T170134Z
UID:1901-1712347200-1712352600@teknes.art
SUMMARY:Il Mondo è un Posto Divertente
DESCRIPTION:IL MONDO È UN POSTO DIVERTENTE fa parte della nostra rassegna di talk di fotografia d’autore.\nGli incontri\, a cadenza mensile\, hanno il formato dei Talks\, una discussione aperta e spontanea su una delle più potenti arti visive\, la fotografia.\nAttraverso le immagini di alcuni dei più importanti fotografi degli ultimi decenni\, affronteremo le tematiche storico-sociologiche trattate nelle immagini\, le motivazioni personali del fotografo\, i principi compositivi che le rendono potenti e comunicative.\nI Talks sono accessibili sia a chi di fotografia si interessa a tutti i livelli\, sia a chi sia semplicemente interessato a vivere un incontro culturale e informativo.\nIL MONDO È UN POSTO DIVERTENTE rappresenta una visione più “leggera” del mondo che ci circonda\, in una rappresentazione teatrale di quello che ognuno di noi vede quasi giornalmente. La fotografia e suoi interpreti ci regalano la possibilità di offrirci un taglio più allegro e scanzonato\, non senza una riflessione su alcune dinamiche oggi molto diffuse nelle comunità umane.\nDa aprile i nostri Talks saranno ospitati anche a Cellole in collaborazione con l’Associazione Fotografica “Emozioni Fotografiche”.\n BIBLIOTECA COMUNALE\, SALA CONVEGNI\nP.zza Compasso\, Cellole\nLa quota di partecipazione è €5.\nÈ gradita la prenotazione contattandoci in privato via mail e scrivendo “prenotazione talk Cellole” nell’oggetto.\n teknes.ac@gmail.com\nPer altre info scrivi un post sulla pagina dell’evento.\nL’evento è a cura di Enrico Della Pietra\, con la collaborazione di Francesca Sciarra.
URL:https://teknes.art/evento/il-mondo-e-un-posto-divertente/
LOCATION:Emozioni Fotografiche\, Via Compasso\, Cellole (CE)\, Italia
CATEGORIES:Talk Fotografici
ATTACH;FMTTYPE=image/png:https://teknes.art/wp-content/uploads/2024/03/3-il-mondo-e-un-posto-divertente_locandina-CELLOLE.png
ORGANIZER;CN="Enrico Della Pietra/Francesca Sciarra":MAILTO:teknes.ac@gmail.com
END:VEVENT
END:VCALENDAR