BEGIN:VCALENDAR
VERSION:2.0
PRODID:-// - ECPv6.15.20//NONSGML v1.0//EN
CALSCALE:GREGORIAN
METHOD:PUBLISH
X-ORIGINAL-URL:https://teknes.art
X-WR-CALDESC:Eventi per 
REFRESH-INTERVAL;VALUE=DURATION:PT1H
X-Robots-Tag:noindex
X-PUBLISHED-TTL:PT1H
BEGIN:VTIMEZONE
TZID:Europe/Berlin
BEGIN:DAYLIGHT
TZOFFSETFROM:+0100
TZOFFSETTO:+0200
TZNAME:CEST
DTSTART:20230326T010000
END:DAYLIGHT
BEGIN:STANDARD
TZOFFSETFROM:+0200
TZOFFSETTO:+0100
TZNAME:CET
DTSTART:20231029T010000
END:STANDARD
BEGIN:DAYLIGHT
TZOFFSETFROM:+0100
TZOFFSETTO:+0200
TZNAME:CEST
DTSTART:20240331T010000
END:DAYLIGHT
BEGIN:STANDARD
TZOFFSETFROM:+0200
TZOFFSETTO:+0100
TZNAME:CET
DTSTART:20241027T010000
END:STANDARD
BEGIN:DAYLIGHT
TZOFFSETFROM:+0100
TZOFFSETTO:+0200
TZNAME:CEST
DTSTART:20250330T010000
END:DAYLIGHT
BEGIN:STANDARD
TZOFFSETFROM:+0200
TZOFFSETTO:+0100
TZNAME:CET
DTSTART:20251026T010000
END:STANDARD
END:VTIMEZONE
BEGIN:VEVENT
DTSTART;TZID=Europe/Berlin:20240405T200000
DTEND;TZID=Europe/Berlin:20240405T213000
DTSTAMP:20260420T040758
CREATED:20240326T155043Z
LAST-MODIFIED:20240327T170134Z
UID:1901-1712347200-1712352600@teknes.art
SUMMARY:Il Mondo è un Posto Divertente
DESCRIPTION:IL MONDO È UN POSTO DIVERTENTE fa parte della nostra rassegna di talk di fotografia d’autore.\nGli incontri\, a cadenza mensile\, hanno il formato dei Talks\, una discussione aperta e spontanea su una delle più potenti arti visive\, la fotografia.\nAttraverso le immagini di alcuni dei più importanti fotografi degli ultimi decenni\, affronteremo le tematiche storico-sociologiche trattate nelle immagini\, le motivazioni personali del fotografo\, i principi compositivi che le rendono potenti e comunicative.\nI Talks sono accessibili sia a chi di fotografia si interessa a tutti i livelli\, sia a chi sia semplicemente interessato a vivere un incontro culturale e informativo.\nIL MONDO È UN POSTO DIVERTENTE rappresenta una visione più “leggera” del mondo che ci circonda\, in una rappresentazione teatrale di quello che ognuno di noi vede quasi giornalmente. La fotografia e suoi interpreti ci regalano la possibilità di offrirci un taglio più allegro e scanzonato\, non senza una riflessione su alcune dinamiche oggi molto diffuse nelle comunità umane.\nDa aprile i nostri Talks saranno ospitati anche a Cellole in collaborazione con l’Associazione Fotografica “Emozioni Fotografiche”.\n BIBLIOTECA COMUNALE\, SALA CONVEGNI\nP.zza Compasso\, Cellole\nLa quota di partecipazione è €5.\nÈ gradita la prenotazione contattandoci in privato via mail e scrivendo “prenotazione talk Cellole” nell’oggetto.\n teknes.ac@gmail.com\nPer altre info scrivi un post sulla pagina dell’evento.\nL’evento è a cura di Enrico Della Pietra\, con la collaborazione di Francesca Sciarra.
URL:https://teknes.art/evento/il-mondo-e-un-posto-divertente/
LOCATION:Emozioni Fotografiche\, Via Compasso\, Cellole (CE)\, Italia
CATEGORIES:Talk Fotografici
ATTACH;FMTTYPE=image/png:https://teknes.art/wp-content/uploads/2024/03/3-il-mondo-e-un-posto-divertente_locandina-CELLOLE.png
ORGANIZER;CN="Enrico Della Pietra/Francesca Sciarra":MAILTO:teknes.ac@gmail.com
END:VEVENT
END:VCALENDAR