BEGIN:VCALENDAR
VERSION:2.0
PRODID:-// - ECPv6.15.20//NONSGML v1.0//EN
CALSCALE:GREGORIAN
METHOD:PUBLISH
X-ORIGINAL-URL:https://teknes.art
X-WR-CALDESC:Eventi per 
REFRESH-INTERVAL;VALUE=DURATION:PT1H
X-Robots-Tag:noindex
X-PUBLISHED-TTL:PT1H
BEGIN:VTIMEZONE
TZID:Europe/Berlin
BEGIN:DAYLIGHT
TZOFFSETFROM:+0100
TZOFFSETTO:+0200
TZNAME:CEST
DTSTART:20240331T010000
END:DAYLIGHT
BEGIN:STANDARD
TZOFFSETFROM:+0200
TZOFFSETTO:+0100
TZNAME:CET
DTSTART:20241027T010000
END:STANDARD
BEGIN:DAYLIGHT
TZOFFSETFROM:+0100
TZOFFSETTO:+0200
TZNAME:CEST
DTSTART:20250330T010000
END:DAYLIGHT
BEGIN:STANDARD
TZOFFSETFROM:+0200
TZOFFSETTO:+0100
TZNAME:CET
DTSTART:20251026T010000
END:STANDARD
BEGIN:DAYLIGHT
TZOFFSETFROM:+0100
TZOFFSETTO:+0200
TZNAME:CEST
DTSTART:20260329T010000
END:DAYLIGHT
BEGIN:STANDARD
TZOFFSETFROM:+0200
TZOFFSETTO:+0100
TZNAME:CET
DTSTART:20261025T010000
END:STANDARD
END:VTIMEZONE
BEGIN:VEVENT
DTSTART;TZID=Europe/Berlin:20251026T100000
DTEND;TZID=Europe/Berlin:20251026T120000
DTSTAMP:20260419T210338
CREATED:20251021T155828Z
LAST-MODIFIED:20251021T160230Z
UID:19076-1761472800-1761480000@teknes.art
SUMMARY:L'ITALIA E GLI ITALIANI
DESCRIPTION:L’ITALIA E GLI ITALIANI rappresenta un viaggio fotografico nel Belpaese\, dal dopoguerra all’Italia contemporanea.\n \nL’incontro ha il formato del Talk\, una discussione aperta e spontanea su una delle più potenti arti visive\, la fotografia.Attraverso le immagini di alcuni dei più importanti fotografi degli ultimi decenni\, affronteremo le tematiche storico-sociologiche trattate nelle immagini\, le motivazioni personali del fotografo\, i principi compositivi che rendono le foto potenti e comunicative.Il Talk è accessibile sia a chi di fotografia si interessa a tutti i livelli\, sia a chi sia semplicemente interessato a vivere un incontro culturale e informativo.\n \nIl Talk fa parte del ciclo di eventi del MESE DELLA FOTOGRAFIA IN CAMPANIA e sarà ospitato dal PIMAC\, Pinacoteca d’Arte Contemporanea\, via Maggiore Vincenzo Citro\, 83025 Montoro AV.\n \nL’evento è a cura di Enrico Della Pietra.
URL:https://teknes.art/evento/litalia-e-gli-italiani-2/
LOCATION:PIMAC\, Via Maggiore Vincenzo Citro\, Montoro\, 83025\, Italy
CATEGORIES:Talk Fotografici
ATTACH;FMTTYPE=image/jpeg:https://teknes.art/wp-content/uploads/2025/10/555589032_122277143720198469_292164443182749588_n.jpg
END:VEVENT
END:VCALENDAR