BEGIN:VCALENDAR
VERSION:2.0
PRODID:-// - ECPv6.15.20//NONSGML v1.0//EN
CALSCALE:GREGORIAN
METHOD:PUBLISH
X-ORIGINAL-URL:https://teknes.art
X-WR-CALDESC:Eventi per 
REFRESH-INTERVAL;VALUE=DURATION:PT1H
X-Robots-Tag:noindex
X-PUBLISHED-TTL:PT1H
BEGIN:VTIMEZONE
TZID:Europe/Berlin
BEGIN:DAYLIGHT
TZOFFSETFROM:+0100
TZOFFSETTO:+0200
TZNAME:CEST
DTSTART:20230326T010000
END:DAYLIGHT
BEGIN:STANDARD
TZOFFSETFROM:+0200
TZOFFSETTO:+0100
TZNAME:CET
DTSTART:20231029T010000
END:STANDARD
BEGIN:DAYLIGHT
TZOFFSETFROM:+0100
TZOFFSETTO:+0200
TZNAME:CEST
DTSTART:20240331T010000
END:DAYLIGHT
BEGIN:STANDARD
TZOFFSETFROM:+0200
TZOFFSETTO:+0100
TZNAME:CET
DTSTART:20241027T010000
END:STANDARD
BEGIN:DAYLIGHT
TZOFFSETFROM:+0100
TZOFFSETTO:+0200
TZNAME:CEST
DTSTART:20250330T010000
END:DAYLIGHT
BEGIN:STANDARD
TZOFFSETFROM:+0200
TZOFFSETTO:+0100
TZNAME:CET
DTSTART:20251026T010000
END:STANDARD
END:VTIMEZONE
BEGIN:VEVENT
DTSTART;TZID=Europe/Berlin:20241213T190000
DTEND;TZID=Europe/Berlin:20241213T210000
DTSTAMP:20260420T101622
CREATED:20241204T143133Z
LAST-MODIFIED:20241210T174106Z
UID:8184-1734116400-1734123600@teknes.art
SUMMARY:Talk di Fotografia - il potere del momento
DESCRIPTION:IL POTERE DEL MOMENTO – Le fotografie Storiche più Influenti di tutti i Tempi.\na cura di Enrico Della Pietra \n13 dicembre – dalle 19:00 alle 21:00\nAssociazione Culturale Sebezia Onlus\nvia Suarez 12\, oppure Rampe Siani 2\, citofono 117\, Napoli\nQuota partecipazione €10 / €8 (soci) \nIL POTERE DEL MOMENTO è un viaggio attraverso un serie di fotografie che si sono associate a un evento storico o che esse stesse hanno rappresentato un punto di svolta\, diventando iconiche e rappresentative di quel determinato evento. \nProveremo così a osservare\, scoprire o riscoprire\, e discutere su quelle fotografie spesso note in tutto il mondo per il loro forte simbolismo; partendo dal XIX secolo\, seguiremo un percorso cronologico\, passando per tutto il XX secolo\, fino ai nostri giorni. \nI nostri Talks sono ospitati a Napoli dall’Associazione Culturale Sebezia Onlus\, che ha due possibili accessi: via Suarez 12\, oppure Rampe Siani 2\, citofono 117 in entrambi i casi. L’evento sarà accompagnato da un brunch.\nLa quota di partecipazione è €8 per i soci Téknes\, €10 per chi non è socio.\nÈ gradita la prenotazione via mail scrivendo “prenotazione Talk Fotografico ” nell’oggetto.
URL:https://teknes.art/evento/talk-di-fotografia-il-potere-del-momento/
LOCATION:Associazione Culturale Sebezia Onlus\, Via Suarez 12\, Napoli\, 80127\, Italy
CATEGORIES:Talk Fotografici
ATTACH;FMTTYPE=image/png:https://teknes.art/wp-content/uploads/2024/12/8-potere-del-momento_locandina.png
ORGANIZER;CN="Enrico Della Pietra/Francesca Sciarra":MAILTO:teknes.ac@gmail.com
END:VEVENT
END:VCALENDAR