BEGIN:VCALENDAR
VERSION:2.0
PRODID:-// - ECPv6.15.20//NONSGML v1.0//EN
CALSCALE:GREGORIAN
METHOD:PUBLISH
X-ORIGINAL-URL:https://teknes.art
X-WR-CALDESC:Eventi per 
REFRESH-INTERVAL;VALUE=DURATION:PT1H
X-Robots-Tag:noindex
X-PUBLISHED-TTL:PT1H
BEGIN:VTIMEZONE
TZID:Europe/Berlin
BEGIN:DAYLIGHT
TZOFFSETFROM:+0100
TZOFFSETTO:+0200
TZNAME:CEST
DTSTART:20240331T010000
END:DAYLIGHT
BEGIN:STANDARD
TZOFFSETFROM:+0200
TZOFFSETTO:+0100
TZNAME:CET
DTSTART:20241027T010000
END:STANDARD
BEGIN:DAYLIGHT
TZOFFSETFROM:+0100
TZOFFSETTO:+0200
TZNAME:CEST
DTSTART:20250330T010000
END:DAYLIGHT
BEGIN:STANDARD
TZOFFSETFROM:+0200
TZOFFSETTO:+0100
TZNAME:CET
DTSTART:20251026T010000
END:STANDARD
BEGIN:DAYLIGHT
TZOFFSETFROM:+0100
TZOFFSETTO:+0200
TZNAME:CEST
DTSTART:20260329T010000
END:DAYLIGHT
BEGIN:STANDARD
TZOFFSETFROM:+0200
TZOFFSETTO:+0100
TZNAME:CET
DTSTART:20261025T010000
END:STANDARD
END:VTIMEZONE
BEGIN:VEVENT
DTSTART;TZID=Europe/Berlin:20250511T180000
DTEND;TZID=Europe/Berlin:20250511T200000
DTSTAMP:20260420T042628
CREATED:20250403T170452Z
LAST-MODIFIED:20250503T190916Z
UID:10653-1746986400-1746993600@teknes.art
SUMMARY:TALK DI STORIA- La Guerra Fredda
DESCRIPTION:IL TALK DI STORIA di Téknes è un nuovo appuntamento dedicato a specifici eventi storici che hanno avuto importanti impatti nelle vicende storiche mondiali.\nLA GUERRA FREDDA – COME IL MONDO HA GIOCATO LA PIU’ LUNGA PARTITA DI SCACCHI è un talk incentrato sui passaggi essenziali che hanno fatto vivere il mondo in una condizione di competizione ideologica\, politica e militare unica\, contrapponendo due diversi concetti di società.Dalla Seconda Guerra Mondiale fino al collasso dell’Impero Sovietico\, seguiremo passo per passo alcune delle tappe fondamentali che hanno caratterizzato la Guerra Fredda\, con alcuni episodi meno conosciuti o quasi ignorati. Le conseguenze di quelle scelte fatte nel XX secolo sono ancora oggi visibili nella società contemporanea.\nPer sua stessa natura\, il talk si offre a una discussione aperta e spontanea\, in cui ognuno può partecipare portando il proprio contributo.\nI nostri Talks sono ospitati nell’appartamento della socia fondatrice Francesca\, nei pressi di Via Piave a Napoli. L’indirizzo preciso sarà comunicato via email ai partecipanti al talk. L’evento sarà accompagnato da una cena/rinfresco.\nLa quota di partecipazione è €8 per i soci Téknes\, €10 per chi non è socio. L’evento sarà limitato fino a un certo numero di partecipanti\, un socio può invitare un ospite non associato.\nPrenotazione via mail scrivendo “prenotazione talk Storia” nell’oggetto. teknes.ac@gmail.com\nL’evento è a cura di Enrico Della Pietra\, laureato in Scienze dell’Educazione e abilitato all’insegnamento di Filosofia e Storia.
URL:https://teknes.art/evento/talk-di-storia-la-guerra-fredda/
LOCATION:Casa di Francesca
CATEGORIES:Talk di Storia
ATTACH;FMTTYPE=image/png:https://teknes.art/wp-content/uploads/2025/04/TALK-STORIA_03-O.png
END:VEVENT
END:VCALENDAR