BEGIN:VCALENDAR
VERSION:2.0
PRODID:-// - ECPv6.15.20//NONSGML v1.0//EN
CALSCALE:GREGORIAN
METHOD:PUBLISH
X-ORIGINAL-URL:https://teknes.art
X-WR-CALDESC:Eventi per 
REFRESH-INTERVAL;VALUE=DURATION:PT1H
X-Robots-Tag:noindex
X-PUBLISHED-TTL:PT1H
BEGIN:VTIMEZONE
TZID:Europe/Berlin
BEGIN:DAYLIGHT
TZOFFSETFROM:+0100
TZOFFSETTO:+0200
TZNAME:CEST
DTSTART:20240331T010000
END:DAYLIGHT
BEGIN:STANDARD
TZOFFSETFROM:+0200
TZOFFSETTO:+0100
TZNAME:CET
DTSTART:20241027T010000
END:STANDARD
BEGIN:DAYLIGHT
TZOFFSETFROM:+0100
TZOFFSETTO:+0200
TZNAME:CEST
DTSTART:20250330T010000
END:DAYLIGHT
BEGIN:STANDARD
TZOFFSETFROM:+0200
TZOFFSETTO:+0100
TZNAME:CET
DTSTART:20251026T010000
END:STANDARD
BEGIN:DAYLIGHT
TZOFFSETFROM:+0100
TZOFFSETTO:+0200
TZNAME:CEST
DTSTART:20260329T010000
END:DAYLIGHT
BEGIN:STANDARD
TZOFFSETFROM:+0200
TZOFFSETTO:+0100
TZNAME:CET
DTSTART:20261025T010000
END:STANDARD
END:VTIMEZONE
BEGIN:VEVENT
DTSTART;TZID=Europe/Berlin:20250328T180000
DTEND;TZID=Europe/Berlin:20250328T200000
DTSTAMP:20260420T073402
CREATED:20250305T141339Z
LAST-MODIFIED:20250308T123416Z
UID:9973-1743184800-1743192000@teknes.art
SUMMARY:Talk di storia - Il terzo reich. Germania 1933-1945
DESCRIPTION:IL TALK DI STORIA di Téknes è un nuovo appuntamento dedicato a specifici eventi storici che hanno avuto importanti impatti nelle vicende storiche mondiali.\nIl TERZO REICH – GERMANIA 1933-1945\, ALL’OMBRA DELLA SVASTICA è un viaggio attraverso gli della instaurazione delka dittatura nazista\, del suo consolidamento\, dell’affermazione di un’ideologia aggressiva e\, infine\, della sua disfatta. nella Germania\, potenza economica\, militare e culturale del continente europeo\, si sviluppa e si afferma quello che Churchill definì un “cancro”\, che mostrò il suo volto più spietato quando ormai era troppo tardi.In questo Talk andiamo\, dunque\, a percorrere ed esplorare le varie tappe che hanno forgiato quella che è stata la dittatura più spietata che il mondo abbia mai conosciuto\, che ha prodotto una macchina di morte e di terrore che ha condotto il mondo al conflitto mondiale più devastante della sua storia.\nPer sua stessa natura\, il talk si offre a una discussione aperta e spontanea\, in cui ognuno può partecipare portando il proprio contributo.\nI nostri Talks sono ospitati nell’appartamento della socia fondatrice Francesca\, nei pressi di Via Piave a Napoli. L’indirizzo preciso sarà comunicato via email ai partecipanti al talk. L’evento sarà accompagnato da un piccolo rinfresco.\nLa quota di partecipazione è €8 per i soci Téknes\, €10 per chi non è socio. L’evento sarà limitato a 8 partecipanti\, un socio può invitare un ospite non associato.\nPrenotazione via mail scrivendo “prenotazione talk Storia” nell’oggetto. teknes.ac@gmail.com\nL’evento è a cura di Enrico Della Pietra\, laureato in Scienze dell’Educazione e abilitato all’insegnamento di Filosofia e Storia
URL:https://teknes.art/evento/talk-di-storia-il-terzo-reich-germania-1933-1945/
LOCATION:Casa di Francesca
CATEGORIES:Talk di Storia
ATTACH;FMTTYPE=image/png:https://teknes.art/wp-content/uploads/2025/03/TALK-STORIA-O_02.png
END:VEVENT
END:VCALENDAR