BEGIN:VCALENDAR
VERSION:2.0
PRODID:-// - ECPv6.15.20//NONSGML v1.0//EN
CALSCALE:GREGORIAN
METHOD:PUBLISH
X-ORIGINAL-URL:https://teknes.art
X-WR-CALDESC:Eventi per 
REFRESH-INTERVAL;VALUE=DURATION:PT1H
X-Robots-Tag:noindex
X-PUBLISHED-TTL:PT1H
BEGIN:VTIMEZONE
TZID:Europe/Berlin
BEGIN:DAYLIGHT
TZOFFSETFROM:+0100
TZOFFSETTO:+0200
TZNAME:CEST
DTSTART:20240331T010000
END:DAYLIGHT
BEGIN:STANDARD
TZOFFSETFROM:+0200
TZOFFSETTO:+0100
TZNAME:CET
DTSTART:20241027T010000
END:STANDARD
BEGIN:DAYLIGHT
TZOFFSETFROM:+0100
TZOFFSETTO:+0200
TZNAME:CEST
DTSTART:20250330T010000
END:DAYLIGHT
BEGIN:STANDARD
TZOFFSETFROM:+0200
TZOFFSETTO:+0100
TZNAME:CET
DTSTART:20251026T010000
END:STANDARD
BEGIN:DAYLIGHT
TZOFFSETFROM:+0100
TZOFFSETTO:+0200
TZNAME:CEST
DTSTART:20260329T010000
END:DAYLIGHT
BEGIN:STANDARD
TZOFFSETFROM:+0200
TZOFFSETTO:+0100
TZNAME:CET
DTSTART:20261025T010000
END:STANDARD
END:VTIMEZONE
BEGIN:VEVENT
DTSTART;TZID=Europe/Berlin:20250622T180000
DTEND;TZID=Europe/Berlin:20250622T200000
DTSTAMP:20260420T012509
CREATED:20250203T152946Z
LAST-MODIFIED:20250522T182103Z
UID:9850-1750615200-1750622400@teknes.art
SUMMARY:TALK DI STORIA | KKK - La storia del Ku Klux Klan
DESCRIPTION:IL TALK DI STORIA di Téknes è un nuovo appuntamento dedicato a specifici eventi storici che hanno avuto importanti impatti nelle vicende storiche mondiali.\n \nKKK – LA STORIA DEL KU KLUX KLAN è un percorso conoscitivo che ci porta ad esplorare e indagare la nota organizzazione razzista e suprematista bianca nata negli Stati Uniti nel XIX secolo. Questa è tristemente conosciuta per il suo ruolo nella promozione dell’odio razziale\, in particolare contro gli afroamericani\, ma anche contro ebrei\, cattolici\, immigrati e altre minoranze. La storia del Klan si sviluppa in tre fasi principali\, ognuna delle quali riflette periodi di tensione sociale\, politica e razziale nella società americana.\n \nPer sua stessa natura\, il TALK si offre a una discussione aperta e spontanea\, in cui ognuno può partecipare portando il proprio contributo.\nI nostri Talks sono ospitati nell’appartamento della socia fondatrice Francesca\, nei pressi di Via Piave a Napoli. L’indirizzo preciso sarà comunicato via email ai partecipanti al talk. L’evento sarà accompagnato da una cena/rinfresco.\n \nLa quota di partecipazione è €8 per i soci Téknes e soci FIAF\, €10 per chi non è socio.\nPrenotazione via mail scrivendo “prenotazione talk Storia” nell’oggetto. teknes.ac@gmail.com\n \nL’evento è a cura di Enrico Della Pietra\, laureato in Scienze dell’Educazione e abilitato all’insegnamento di Filosofia e Storia.\n\n\n \n\n\n 
URL:https://teknes.art/evento/talk-di-storia-kkk/
LOCATION:Casa di Francesca
CATEGORIES:Talk di Storia
ATTACH;FMTTYPE=image/png:https://teknes.art/wp-content/uploads/2025/05/TALK-STORIA_04-O.png
END:VEVENT
END:VCALENDAR