BEGIN:VCALENDAR
VERSION:2.0
PRODID:-// - ECPv6.15.20//NONSGML v1.0//EN
CALSCALE:GREGORIAN
METHOD:PUBLISH
X-ORIGINAL-URL:https://teknes.art
X-WR-CALDESC:Eventi per 
REFRESH-INTERVAL;VALUE=DURATION:PT1H
X-Robots-Tag:noindex
X-PUBLISHED-TTL:PT1H
BEGIN:VTIMEZONE
TZID:Europe/Berlin
BEGIN:DAYLIGHT
TZOFFSETFROM:+0100
TZOFFSETTO:+0200
TZNAME:CEST
DTSTART:20240331T010000
END:DAYLIGHT
BEGIN:STANDARD
TZOFFSETFROM:+0200
TZOFFSETTO:+0100
TZNAME:CET
DTSTART:20241027T010000
END:STANDARD
BEGIN:DAYLIGHT
TZOFFSETFROM:+0100
TZOFFSETTO:+0200
TZNAME:CEST
DTSTART:20250330T010000
END:DAYLIGHT
BEGIN:STANDARD
TZOFFSETFROM:+0200
TZOFFSETTO:+0100
TZNAME:CET
DTSTART:20251026T010000
END:STANDARD
BEGIN:DAYLIGHT
TZOFFSETFROM:+0100
TZOFFSETTO:+0200
TZNAME:CEST
DTSTART:20260329T010000
END:DAYLIGHT
BEGIN:STANDARD
TZOFFSETFROM:+0200
TZOFFSETTO:+0100
TZNAME:CET
DTSTART:20261025T010000
END:STANDARD
END:VTIMEZONE
BEGIN:VEVENT
DTSTART;TZID=Europe/Berlin:20250118T180000
DTEND;TZID=Europe/Berlin:20250118T200000
DTSTAMP:20260420T111055
CREATED:20250108T180801Z
LAST-MODIFIED:20250109T132818Z
UID:9000-1737223200-1737230400@teknes.art
SUMMARY:Talk di storia " La Repubblica di Weimar "
DESCRIPTION:IL TALK DI STORIA di Téknes è un nuovo appuntamento dedicato a specifici eventi storici che hanno avuto importanti impatti nelle vicende storiche mondiali.\nLA REPUBBLICA DI WEIMAR è stato un esperimento unico di nascita e morte di una democrazia in un Paese\, la Germania\, potenza economica\, militare e culturale del continente europeo.In questo Talk andiamo a percorrere ed esplorare i passaggi fondamentali che hanno portato un sistema democratico\, sostenuto da una delle costituzioni più avanzate al mondo\, a procedere verso un destino di deterioramento\, che ha spalancato le porte ad un delle più feroci dittature che la storia dell’umanità abbia mai conosciuto.Platone\, ne La Repubblica\, colloca la Democrazia come regime positivo. La sua degenerazione porta all’instaurazione della dittatura\, la cui guida è soggetta alla volontà di un uomo che utilizza\, a sua volta\, le masse.\nPer sua stessa natura\, il talk si offre a una discussione aperta e spontanea\, in cui ognuno può partecipare portando il proprio contributo.\nI nostri Talks sono ospitati nell’appartamento della socia fondatrice Francesca\, nei pressi di Via Piave a Napoli. L’indirizzo preciso sarà comunicato via email ai partecipanti al talk. L’evento sarà accompagnato da un piccolo rinfresco.\nLa quota di partecipazione è €8 per i soci Téknes\, €10 per chi non è socio. L’evento sarà limitato a 8 partecipanti\, un socio può invitare un ospite non associato.È gradita la prenotazione via mail scrivendo “prenotazione talk Storia” nell’oggetto. teknes.ac@gmail.com\n\nL’evento è a cura di Enrico Della Pietra\, laureato in Scienze dell’Educazione e abilitato all’insegnamento di Filosofia e Storia.  \n\n\n\n 
URL:https://teknes.art/evento/talk-di-storia-la-repubblica-di-weimar/
LOCATION:Casa di Francesca
CATEGORIES:Talk di Storia
END:VEVENT
END:VCALENDAR