BEGIN:VCALENDAR
VERSION:2.0
PRODID:-// - ECPv6.15.20//NONSGML v1.0//EN
CALSCALE:GREGORIAN
METHOD:PUBLISH
X-ORIGINAL-URL:https://teknes.art
X-WR-CALDESC:Eventi per 
REFRESH-INTERVAL;VALUE=DURATION:PT1H
X-Robots-Tag:noindex
X-PUBLISHED-TTL:PT1H
BEGIN:VTIMEZONE
TZID:Europe/Berlin
BEGIN:DAYLIGHT
TZOFFSETFROM:+0100
TZOFFSETTO:+0200
TZNAME:CEST
DTSTART:20240331T010000
END:DAYLIGHT
BEGIN:STANDARD
TZOFFSETFROM:+0200
TZOFFSETTO:+0100
TZNAME:CET
DTSTART:20241027T010000
END:STANDARD
BEGIN:DAYLIGHT
TZOFFSETFROM:+0100
TZOFFSETTO:+0200
TZNAME:CEST
DTSTART:20250330T010000
END:DAYLIGHT
BEGIN:STANDARD
TZOFFSETFROM:+0200
TZOFFSETTO:+0100
TZNAME:CET
DTSTART:20251026T010000
END:STANDARD
BEGIN:DAYLIGHT
TZOFFSETFROM:+0100
TZOFFSETTO:+0200
TZNAME:CEST
DTSTART:20260329T010000
END:DAYLIGHT
BEGIN:STANDARD
TZOFFSETFROM:+0200
TZOFFSETTO:+0100
TZNAME:CET
DTSTART:20261025T010000
END:STANDARD
END:VTIMEZONE
BEGIN:VEVENT
DTSTART;TZID=Europe/Berlin:20250518T100000
DTEND;TZID=Europe/Berlin:20250518T120000
DTSTAMP:20260419T144332
CREATED:20250503T185740Z
LAST-MODIFIED:20250503T190956Z
UID:12496-1747562400-1747569600@teknes.art
SUMMARY:SULLE ORME DI HAHNEMANN
DESCRIPTION:SULLE ORME DI HAHNEMANNA cura di Diana Caliman\, naturopata.\n “Tutto ciò che nell’uomo è riunito armonicamente\, vive nella natura intorno a lui nelle diversità delle forme; pertanto ogni squilibrio che si verifica nella struttura psico-fisica umana fa assomigliare l’uomo a qualche elemento della natura. L’omeopatia rappresenta\, alla luce di questo\, l’applicazione della legge di guarigione della Natura\, legge che peraltro esisteva già prima di Hahnemann al quale va il grande merito di averla scoperta.”Fonte rivista: “Il medico omeopata”.\nIn quest’incontro faremo chiarezza sul concetto di omeopatia unicista\, accenni di fitoterapia e floriterapia\, ma soprattutto diventeremo consapevoli delle nostre scelte mediche per far si che realmente siamo in “armonia con la natura”.Sembra un fine ambizioso ma solo la conoscenza può essere il primo passo per far sì che diventiamo realmente indipendenti\, la strada è lunga ma i piccoli passi portano lontano.Ti aspetto per “vivere in armonia”.\n L’incontro si svolge a Pianura\, c’è la possibilità di parcheggiare. Ai partecipanti sarà fornito l’indirizzo di Diana. Faremo una pausa tisana/caffè Offerta liberamax 8 partecipanti\n Prenota inviando una mail a teknes.ac@gmail.com
URL:https://teknes.art/evento/sulle-orme-di-hahnemann/
LOCATION:Casa di Diana\, via provinciale Montagna Spaccata\, Napoli\, 80126
CATEGORIES:Sulle orme di Hahnemann
ATTACH;FMTTYPE=image/png:https://teknes.art/wp-content/uploads/2025/05/LAB-NATUROPATIA-omeopatia-O.png
END:VEVENT
END:VCALENDAR