BEGIN:VCALENDAR
VERSION:2.0
PRODID:-// - ECPv6.15.20//NONSGML v1.0//EN
CALSCALE:GREGORIAN
METHOD:PUBLISH
X-ORIGINAL-URL:https://teknes.art
X-WR-CALDESC:Eventi per 
REFRESH-INTERVAL;VALUE=DURATION:PT1H
X-Robots-Tag:noindex
X-PUBLISHED-TTL:PT1H
BEGIN:VTIMEZONE
TZID:Europe/Berlin
BEGIN:DAYLIGHT
TZOFFSETFROM:+0100
TZOFFSETTO:+0200
TZNAME:CEST
DTSTART:20240331T010000
END:DAYLIGHT
BEGIN:STANDARD
TZOFFSETFROM:+0200
TZOFFSETTO:+0100
TZNAME:CET
DTSTART:20241027T010000
END:STANDARD
BEGIN:DAYLIGHT
TZOFFSETFROM:+0100
TZOFFSETTO:+0200
TZNAME:CEST
DTSTART:20250330T010000
END:DAYLIGHT
BEGIN:STANDARD
TZOFFSETFROM:+0200
TZOFFSETTO:+0100
TZNAME:CET
DTSTART:20251026T010000
END:STANDARD
BEGIN:DAYLIGHT
TZOFFSETFROM:+0100
TZOFFSETTO:+0200
TZNAME:CEST
DTSTART:20260329T010000
END:DAYLIGHT
BEGIN:STANDARD
TZOFFSETFROM:+0200
TZOFFSETTO:+0100
TZNAME:CET
DTSTART:20261025T010000
END:STANDARD
END:VTIMEZONE
BEGIN:VEVENT
DTSTART;TZID=Europe/Berlin:20250323T100000
DTEND;TZID=Europe/Berlin:20250323T113000
DTSTAMP:20260420T064001
CREATED:20250305T135859Z
LAST-MODIFIED:20250305T144526Z
UID:9957-1742724000-1742729400@teknes.art
SUMMARY:Photobook club - American Geography
DESCRIPTION:Il PHOTOBOOK CLUB di Téknes è la nostra versione dei Book Club\, ovvero dei club del libro\, i gruppi di lettura che si riuniscono con una cadenza fissa per discutere di libri letti insieme\, se non addirittura per leggerli insieme.I nostri incontri saranno dedicati all’approfondimento di un libro fotografico e del relativo autore.\n L’idea è di incontrarci l’ultimo weekend del mese\, di domenica mattina\, e di chiacchierare in compagnia di un buon libro fotografico e di un caffè con brioche.Una colazione foto-letteraria\, adatta a tutti.\n Questa volta leggeremo il libro di Matt Black “AMERICAN GEOGRAPHY”\, un viaggio potente e struggente attraverso gli Stati Uniti\, raccontato attraverso la fotografia documentaria.Il libro raccoglie immagini scattate in oltre 100.000 miglia di viaggio attraverso 46 stati\, dal 2014 al 2020\, con un obiettivo chiaro: documentare la povertà negli USA.AMERICAN GEOGRAPHY\, Contrasto\, 2021.\n23 MARZO dalle 10:00 alle 11:30max 8 partecipantiprenotazione  teknes.ac@gmail.com\nQuota di partecipazione € 5Casa di Antonella in via Tasso parte alta (Parco Matarazzo)\, NapoliL’indirizzo preciso sarà fornito via mail ai partecipanti.
URL:https://teknes.art/evento/photobook-club-american-geography/
LOCATION:Casa di Antonella\, via Tasso (Parco Matarazzo)\, Napoli\, 80127
CATEGORIES:Photo Book Club
ATTACH;FMTTYPE=image/png:https://teknes.art/wp-content/uploads/2025/03/PHOTOBOOK-CLUB-09-O_AMERICAN-GEOGRAPHY-2.png
END:VEVENT
END:VCALENDAR