BEGIN:VCALENDAR
VERSION:2.0
PRODID:-// - ECPv6.15.20//NONSGML v1.0//EN
CALSCALE:GREGORIAN
METHOD:PUBLISH
X-ORIGINAL-URL:https://teknes.art
X-WR-CALDESC:Eventi per 
REFRESH-INTERVAL;VALUE=DURATION:PT1H
X-Robots-Tag:noindex
X-PUBLISHED-TTL:PT1H
BEGIN:VTIMEZONE
TZID:Europe/Berlin
BEGIN:DAYLIGHT
TZOFFSETFROM:+0100
TZOFFSETTO:+0200
TZNAME:CEST
DTSTART:20240331T010000
END:DAYLIGHT
BEGIN:STANDARD
TZOFFSETFROM:+0200
TZOFFSETTO:+0100
TZNAME:CET
DTSTART:20241027T010000
END:STANDARD
BEGIN:DAYLIGHT
TZOFFSETFROM:+0100
TZOFFSETTO:+0200
TZNAME:CEST
DTSTART:20250330T010000
END:DAYLIGHT
BEGIN:STANDARD
TZOFFSETFROM:+0200
TZOFFSETTO:+0100
TZNAME:CET
DTSTART:20251026T010000
END:STANDARD
BEGIN:DAYLIGHT
TZOFFSETFROM:+0100
TZOFFSETTO:+0200
TZNAME:CEST
DTSTART:20260329T010000
END:DAYLIGHT
BEGIN:STANDARD
TZOFFSETFROM:+0200
TZOFFSETTO:+0100
TZNAME:CET
DTSTART:20261025T010000
END:STANDARD
END:VTIMEZONE
BEGIN:VEVENT
DTSTART;TZID=Europe/Berlin:20250223T100000
DTEND;TZID=Europe/Berlin:20250223T113000
DTSTAMP:20260420T063908
CREATED:20250203T153239Z
LAST-MODIFIED:20250203T153856Z
UID:9853-1740304800-1740310200@teknes.art
SUMMARY:Photobook club - Napoli sempre - Arturo Fratta
DESCRIPTION:Il PHOTOBOOK CLUB di Téknes è la nostra versione dei Book Club\, ovvero dei club del libro\, i gruppi di lettura che si riuniscono con una cadenza fissa per discutere di libri letti insieme\, se non addirittura per leggerli insieme.I nostri incontri saranno dedicati all’approfondimento di un libro fotografico e del relativo autore.\n L’idea è di incontrarci l’ultimo weekend del mese\, di domenica mattina\, e di chiacchierare in compagnia di un buon libro fotografico e di un caffè con brioche.Una colazione foto-letteraria\, adatta a tutti.\n Questa volta leggeremo il libro di Arturo Fratta “NAPOLI SEMPRE”\, un libro che nasce\, come dice l’autore stesso\, “da un’intima esigenza di verità\, per riproporre un’immagine della città che non fosse quella creata da certe interpretazioni documentaristiche o letterarie”. Un modo vedere Napoli\, di sentirla.NAPOLI SEMPRE. Arturo FrattaE.D.A.R.T\, 1970.\n23 FEBBRAIO dalle 10:00 alle 11:30max 8 partecipantiprenotazione  teknes.ac@gmail.com\n\nQuota di partecipazione € 5Casa di Antonella in via Tasso parte alta (Parco Matarazzo)\, NapoliL’indirizzo preciso sarà fornito via mail ai partecipanti.  \nMostra meno
URL:https://teknes.art/evento/9853/
CATEGORIES:Photo Book Club
END:VEVENT
END:VCALENDAR