BEGIN:VCALENDAR
VERSION:2.0
PRODID:-// - ECPv6.15.20//NONSGML v1.0//EN
CALSCALE:GREGORIAN
METHOD:PUBLISH
X-ORIGINAL-URL:https://teknes.art
X-WR-CALDESC:Eventi per 
REFRESH-INTERVAL;VALUE=DURATION:PT1H
X-Robots-Tag:noindex
X-PUBLISHED-TTL:PT1H
BEGIN:VTIMEZONE
TZID:Europe/Berlin
BEGIN:DAYLIGHT
TZOFFSETFROM:+0100
TZOFFSETTO:+0200
TZNAME:CEST
DTSTART:20250330T010000
END:DAYLIGHT
BEGIN:STANDARD
TZOFFSETFROM:+0200
TZOFFSETTO:+0100
TZNAME:CET
DTSTART:20251026T010000
END:STANDARD
BEGIN:DAYLIGHT
TZOFFSETFROM:+0100
TZOFFSETTO:+0200
TZNAME:CEST
DTSTART:20260329T010000
END:DAYLIGHT
BEGIN:STANDARD
TZOFFSETFROM:+0200
TZOFFSETTO:+0100
TZNAME:CET
DTSTART:20261025T010000
END:STANDARD
BEGIN:DAYLIGHT
TZOFFSETFROM:+0100
TZOFFSETTO:+0200
TZNAME:CEST
DTSTART:20270328T010000
END:DAYLIGHT
BEGIN:STANDARD
TZOFFSETFROM:+0200
TZOFFSETTO:+0100
TZNAME:CET
DTSTART:20271031T010000
END:STANDARD
END:VTIMEZONE
BEGIN:VEVENT
DTSTART;TZID=Europe/Berlin:20260110T110000
DTEND;TZID=Europe/Berlin:20260110T160000
DTSTAMP:20260419T141438
CREATED:20260101T164043Z
LAST-MODIFIED:20260101T164332Z
UID:35299-1768042800-1768060800@teknes.art
SUMMARY:VISITA DI GRUPPO | Salerno e mostra di Martin Parr
DESCRIPTION:VISITA DI GRUPPO A SALERNO E MOSTRA DI MARTIN PARR \nin collaborazione con Flegrea Photo \nsabato 10 gennaio dalle 11:00 \nPer chi viene in auto da Napoli si consiglia uscita VIETRI SUL MARE per dirigersi in zona porto verso il complesso residenziale Crescent \n(parcheggio sotterraneo Libertà) \nL’appuntamento è nel piazzale sovrastante il parcheggio \n\n \n 
URL:https://teknes.art/evento/visita-di-gruppo-salerno-e-mostra-di-martin-parr/
CATEGORIES:Passeggiata Fotografica
ATTACH;FMTTYPE=image/jpeg:https://teknes.art/wp-content/uploads/2026/01/6449e401-1d76-6762-e708-b0fc14d9e809.jpg
END:VEVENT
END:VCALENDAR