BEGIN:VCALENDAR
VERSION:2.0
PRODID:-// - ECPv6.15.20//NONSGML v1.0//EN
CALSCALE:GREGORIAN
METHOD:PUBLISH
X-ORIGINAL-URL:https://teknes.art
X-WR-CALDESC:Eventi per 
REFRESH-INTERVAL;VALUE=DURATION:PT1H
X-Robots-Tag:noindex
X-PUBLISHED-TTL:PT1H
BEGIN:VTIMEZONE
TZID:Europe/Berlin
BEGIN:DAYLIGHT
TZOFFSETFROM:+0100
TZOFFSETTO:+0200
TZNAME:CEST
DTSTART:20240331T010000
END:DAYLIGHT
BEGIN:STANDARD
TZOFFSETFROM:+0200
TZOFFSETTO:+0100
TZNAME:CET
DTSTART:20241027T010000
END:STANDARD
BEGIN:DAYLIGHT
TZOFFSETFROM:+0100
TZOFFSETTO:+0200
TZNAME:CEST
DTSTART:20250330T010000
END:DAYLIGHT
BEGIN:STANDARD
TZOFFSETFROM:+0200
TZOFFSETTO:+0100
TZNAME:CET
DTSTART:20251026T010000
END:STANDARD
BEGIN:DAYLIGHT
TZOFFSETFROM:+0100
TZOFFSETTO:+0200
TZNAME:CEST
DTSTART:20260329T010000
END:DAYLIGHT
BEGIN:STANDARD
TZOFFSETFROM:+0200
TZOFFSETTO:+0100
TZNAME:CET
DTSTART:20261025T010000
END:STANDARD
END:VTIMEZONE
BEGIN:VEVENT
DTSTART;TZID=Europe/Berlin:20250510T100000
DTEND;TZID=Europe/Berlin:20250510T120000
DTSTAMP:20260420T030914
CREATED:20250403T170125Z
LAST-MODIFIED:20250505T073935Z
UID:10645-1746871200-1746878400@teknes.art
SUMMARY:Passeggiata fotografica alle Terme di Baia (NA)
DESCRIPTION: Per questo mese abbiamo pensato ad una visita al Parco Archeologico delle Terme di Baia (NA).Situato nel comune di Bacoli\, è uno dei più affascinanti complessi termali dell’antichità romana. Inserito nell’area dei Campi Flegrei\, il sito conserva i resti di sontuose strutture termali e residenziali risalenti tra il I secolo a.C. e il IV secolo d.C.\, appartenenti all’aristocrazia e agli imperatori romani. Il parco comprende grandiose costruzioni come il Tempio di Diana\, il Tempio di Mercurio e il Tempio di Venere (in realtà ambienti termali)\, noti per le loro imponenti cupole e l’ingegnosa architettura idraulica. Celebre in epoca romana per la sua bellezza e le acque sulfuree curative\, Baia era considerata una località di lusso e villeggiatura. Oggi\, il parco offre un suggestivo viaggio tra rovine\, natura e panorama sul golfo.\n La passeggiata dura circa 2 ore\, comprese le soste per fotografare. Indossate scarpe comode.Consigliamo sempre di valutare bene la propria preparazione e resistenza fisica prima di aderire.Vi consigliamo inoltre un’attrezzatura fotografica versatile\, adatta soprattutto alle architetture.\n Ci incontreremo all’ingrresso del Parco archeologico delle Terme di Baia\, Via Sella di Baia\, 22\, 80070 Bacoli (NA).Partenza alle 10:00.\nIl biglietto di ingresso alle Terme di Baia costa €5 e si fa direttamente sul posto.La passeggiata non prevede prenotazione.\nhttps://maps.app.goo.gl/3wWntfQWyv3mimj2A
URL:https://teknes.art/evento/passeggiata-fotografica-terme-di-baia/
LOCATION:terme di Baia
CATEGORIES:Passeggiata Fotografica
ATTACH;FMTTYPE=image/jpeg:https://teknes.art/wp-content/uploads/2025/05/494383671_122244529946198469_9082840426424417113_n.jpg
END:VEVENT
END:VCALENDAR