BEGIN:VCALENDAR
VERSION:2.0
PRODID:-// - ECPv6.15.20//NONSGML v1.0//EN
CALSCALE:GREGORIAN
METHOD:PUBLISH
X-ORIGINAL-URL:https://teknes.art
X-WR-CALDESC:Eventi per 
REFRESH-INTERVAL;VALUE=DURATION:PT1H
X-Robots-Tag:noindex
X-PUBLISHED-TTL:PT1H
BEGIN:VTIMEZONE
TZID:Europe/Berlin
BEGIN:DAYLIGHT
TZOFFSETFROM:+0100
TZOFFSETTO:+0200
TZNAME:CEST
DTSTART:20240331T010000
END:DAYLIGHT
BEGIN:STANDARD
TZOFFSETFROM:+0200
TZOFFSETTO:+0100
TZNAME:CET
DTSTART:20241027T010000
END:STANDARD
BEGIN:DAYLIGHT
TZOFFSETFROM:+0100
TZOFFSETTO:+0200
TZNAME:CEST
DTSTART:20250330T010000
END:DAYLIGHT
BEGIN:STANDARD
TZOFFSETFROM:+0200
TZOFFSETTO:+0100
TZNAME:CET
DTSTART:20251026T010000
END:STANDARD
BEGIN:DAYLIGHT
TZOFFSETFROM:+0100
TZOFFSETTO:+0200
TZNAME:CEST
DTSTART:20260329T010000
END:DAYLIGHT
BEGIN:STANDARD
TZOFFSETFROM:+0200
TZOFFSETTO:+0100
TZNAME:CET
DTSTART:20261025T010000
END:STANDARD
END:VTIMEZONE
BEGIN:VEVENT
DTSTART;TZID=Europe/Berlin:20250119T100000
DTEND;TZID=Europe/Berlin:20250119T120000
DTSTAMP:20260420T073401
CREATED:20250108T175856Z
LAST-MODIFIED:20250109T132724Z
UID:8992-1737280800-1737288000@teknes.art
SUMMARY:Passeggiata fotografica Lago di Miseno
DESCRIPTION:Dalla sinergia di Téknes Associazione Culturale e la comunità di Photonapoli vi proponiamo la passeggiata fotografica di Gennaio.\n\n\n Per questo mese abbiamo pensato al giro intorno al Lago Miseno\, nel comune di Bacoli.\nIl lago deve il suo nome a Miseno\, trombettiere dell’esercito troiano al seguito di Enea (dall’Eneide di Virgilio – libro VI) che proprio nelle acque marine antistanti il lago annega tra gli impetuosi flutti. Enea\, ritrovato il corpo\, lo seppellisce sotto un grande cumulo di terra per offrirgli una degna sepoltura\, il promontorio di Capo Miseno\, a perenne memoria dell’eroico compagno.\n\n\n La passeggiata dura circa 2 ore\, comprese le soste per fotografare. Indossate scarpe comode ed eventualmente un cappellino per il sole.\nConsigliamo sempre di valutare bene la vostra preparazione e resistenza fisica prima di aderire.\nVi consigliamo inoltre un’attrezzatura fotografica versatile\, adatta soprattutto alle lunghe passeggiate.\n\n\n Ci incontreremo al Parcheggio Comunale a Via Miseno.\nAppuntamento alle 10:00.\n\n\nhttps://maps.app.goo.gl/P4vc4audL1WzWLD69
URL:https://teknes.art/evento/passeggiata-fotografica-lago-di-miseno/
LOCATION:https://maps.app.goo.gl/P4vc4audL1WzWLD69
CATEGORIES:Passeggiata Fotografica
ATTACH;FMTTYPE=image/png:https://teknes.art/wp-content/uploads/2025/01/01-25-PASSEGGIATA-FOTOGRAFICA-O.png
END:VEVENT
END:VCALENDAR