BEGIN:VCALENDAR
VERSION:2.0
PRODID:-// - ECPv6.15.20//NONSGML v1.0//EN
CALSCALE:GREGORIAN
METHOD:PUBLISH
X-ORIGINAL-URL:https://teknes.art
X-WR-CALDESC:Eventi per 
REFRESH-INTERVAL;VALUE=DURATION:PT1H
X-Robots-Tag:noindex
X-PUBLISHED-TTL:PT1H
BEGIN:VTIMEZONE
TZID:Europe/Berlin
BEGIN:DAYLIGHT
TZOFFSETFROM:+0100
TZOFFSETTO:+0200
TZNAME:CEST
DTSTART:20240331T010000
END:DAYLIGHT
BEGIN:STANDARD
TZOFFSETFROM:+0200
TZOFFSETTO:+0100
TZNAME:CET
DTSTART:20241027T010000
END:STANDARD
BEGIN:DAYLIGHT
TZOFFSETFROM:+0100
TZOFFSETTO:+0200
TZNAME:CEST
DTSTART:20250330T010000
END:DAYLIGHT
BEGIN:STANDARD
TZOFFSETFROM:+0200
TZOFFSETTO:+0100
TZNAME:CET
DTSTART:20251026T010000
END:STANDARD
BEGIN:DAYLIGHT
TZOFFSETFROM:+0100
TZOFFSETTO:+0200
TZNAME:CEST
DTSTART:20260329T010000
END:DAYLIGHT
BEGIN:STANDARD
TZOFFSETFROM:+0200
TZOFFSETTO:+0100
TZNAME:CET
DTSTART:20261025T010000
END:STANDARD
END:VTIMEZONE
BEGIN:VEVENT
DTSTART;TZID=Europe/Berlin:20250726T100000
DTEND;TZID=Europe/Berlin:20250726T120000
DTSTAMP:20260419T194946
CREATED:20250704T134234Z
LAST-MODIFIED:20250704T134234Z
UID:14943-1753524000-1753531200@teknes.art
SUMMARY:FOTOPASSAGGI - PERCORSI TRA MOSTRE E FOTOGRAFIE
DESCRIPTION:FOTOPASSAGGI\nPERCORSI TRA MOSTRE E FOTOGRAFIA \nsabato 26 luglio alle 10:00 \nMimmo Jodice. NAPOLI METAFISICA \nCastel Nuovo\, Napoli \nsenza prenotazione \ncosto del biglietto €6.00 comprensivo dell’ingresso al Castello e al Museo Civico\nmaggiori informazioni al link https://www.comune.napoli.it/maschioangioino
URL:https://teknes.art/evento/fotopassaggi-percorsi-tra-mostre-e-fotografie/
LOCATION:Maschio Angioino\, V. Vittorio Emanuele III\, Napoli\, Napoli\, 80133\, Italy
CATEGORIES:Fotopassaggi
ATTACH;FMTTYPE=image/png:https://teknes.art/wp-content/uploads/2025/07/21d744b5-ffcd-1cb3-8775-48abf2ef2f4a.png
END:VEVENT
END:VCALENDAR