BEGIN:VCALENDAR
VERSION:2.0
PRODID:-// - ECPv6.15.20//NONSGML v1.0//EN
CALSCALE:GREGORIAN
METHOD:PUBLISH
X-ORIGINAL-URL:https://teknes.art
X-WR-CALDESC:Eventi per 
REFRESH-INTERVAL;VALUE=DURATION:PT1H
X-Robots-Tag:noindex
X-PUBLISHED-TTL:PT1H
BEGIN:VTIMEZONE
TZID:Europe/Berlin
BEGIN:DAYLIGHT
TZOFFSETFROM:+0100
TZOFFSETTO:+0200
TZNAME:CEST
DTSTART:20240331T010000
END:DAYLIGHT
BEGIN:STANDARD
TZOFFSETFROM:+0200
TZOFFSETTO:+0100
TZNAME:CET
DTSTART:20241027T010000
END:STANDARD
BEGIN:DAYLIGHT
TZOFFSETFROM:+0100
TZOFFSETTO:+0200
TZNAME:CEST
DTSTART:20250330T010000
END:DAYLIGHT
BEGIN:STANDARD
TZOFFSETFROM:+0200
TZOFFSETTO:+0100
TZNAME:CET
DTSTART:20251026T010000
END:STANDARD
BEGIN:DAYLIGHT
TZOFFSETFROM:+0100
TZOFFSETTO:+0200
TZNAME:CEST
DTSTART:20260329T010000
END:DAYLIGHT
BEGIN:STANDARD
TZOFFSETFROM:+0200
TZOFFSETTO:+0100
TZNAME:CET
DTSTART:20261025T010000
END:STANDARD
BEGIN:DAYLIGHT
TZOFFSETFROM:+0100
TZOFFSETTO:+0200
TZNAME:CEST
DTSTART:20270328T010000
END:DAYLIGHT
BEGIN:STANDARD
TZOFFSETFROM:+0200
TZOFFSETTO:+0100
TZNAME:CET
DTSTART:20271031T010000
END:STANDARD
END:VTIMEZONE
BEGIN:VEVENT
DTSTART;VALUE=DATE:20250901
DTEND;VALUE=DATE:20260801
DTSTAMP:20260419T145137
CREATED:20250905T135122Z
LAST-MODIFIED:20250905T135122Z
UID:18119-1756684800-1785542399@teknes.art
SUMMARY:LAB DI CULT 254 FIAF - AGROSFERA
DESCRIPTION:LAB DI CULT 254 FIAF\n  \nAGROFERA \n\n Storie di Tradizione e Innovazione – Progetto Fotografico Collettivo Nazionale FIAF 2025-2026\n\n\nIl tema è di straordinaria attualità per il nostro Paese\, e offre un’opportunità di riflessione su un settore portante della nostra economia che ha svolto e continua a svolgere un ruolo primario nella nostra realtà nazionale. L’Italia vanta una forte matrice rurale\, ed è capace oggi di mantenere le proprie radici quanto di guardare al futuro e alle tante tendenze e trasformazioni in atto che stanno ridisegnando il volto del settore.\n\n\nCome CIRCOLO FIAF TÉKNES organizziamo un LAB Di Cult a Napoli.\nIl laboratorio si svolgerà in presenza con incontri periodici e revisioni collettive.\nÈ richiesta una partecipazione attiva e continuativa.\n\n\n PARTECIPAZIONE\nIl laboratorio è aperto a fotografi\, appassionati e autori di ogni livello\, con forte motivazione a sviluppare un progetto a lungo termine all’interno di un gruppo di lavoro.\n\n\n NUMERO MASSIMO DI PARTECIPANTI: 24. Non è prevista una selezione di alcun tipo\, basta candidarsi inviando quanto richiesto per entrare nel laboratorio. Alle candidature sarà assegnato un numero progressivo\, arrivati a 24 partecipanti chiuderemo la call.\n\n\n INCONTRI: due volte al mese\, di venerdì pomeriggio\, dalle 17 alle 19\, ci sarà un incontro aperto a casa della tutor (zona via Piave\, Napoli) e chi vorrà venire sarà libero di farlo senza avvisare\, nella fascia oraria indicata.\n\n\n TEMA DEGLI INCONTRI: gli incontri saranno dedicati alle varie tappe del laboratorio\, ovvero: motivazione personale\, progettazione\, concept del lab\, comunicazione\, editing\, presentazione\, lettura portfolio\, post-produzione\, verifica finale\, stampa e mostra.\n\n\n ISCRIZIONE ALLA FIAF / QUOTA: per poter partecipare occorre fare l’iscrizione alla FIAF per il 2025/2026 oppure pagare\, sempre alla FIAF\, una quota di partecipazione al LAB di €35. Tutto ciò si può fare con calma nei mesi seguenti. Poi spiegheremo cosa conviene fare.\n\n\n CANDIDATURA\nSe vuoi partecipare devi inviare entro il 30 agosto 2025:\n– Un breve testo (massimo una pagina) in cui esprimi l’idea progettuale che intendi sviluppare durante il laboratorio.\n– Due fotografie rappresentative dello stile o del genere di immagini che vorresti realizzare. Le foto possono essere d’archivio oppure realizzate appositamente per la call.\nInvia tutto il materiale via email all’indirizzo: labdicult@gmail.com\n\n\nTi aspettiamo!\nhttps://fiaf.net/agrosfera/\nAGROSFERA Serata Presentazione Lab\nhttps://www.youtube.com/watch?v=RJ3N8tEa0fY&t=752s\n\n\nTutor FIAF Francesca Sciarra\nCollaboratrice Maria Leone
URL:https://teknes.art/evento/agrosfera-fiaf/
CATEGORIES:Fotopassaggi
ATTACH;FMTTYPE=image/png:https://teknes.art/wp-content/uploads/2025/09/9d279a73-f59f-4d69-c278-fd04e1c5a0d4.png
END:VEVENT
BEGIN:VEVENT
DTSTART;TZID=Europe/Berlin:20251228T100000
DTEND;TZID=Europe/Berlin:20251228T120000
DTSTAMP:20260419T145137
CREATED:20251207T180457Z
LAST-MODIFIED:20251207T181455Z
UID:26137-1766916000-1766923200@teknes.art
SUMMARY:PASSEGGIATA FOTOGRAFICA | BASILICHE DI CIMITILE
DESCRIPTION:Dalla sinergia di Téknes Associazione Culturale e la comunità di Photonapoli vi proponiamo la passeggiata fotografica di dicembre.\n Sei pronto per la passeggiata fotografica di dicembre?\nSaremo alle Basiliche di Cimitile\, in provincia di Napoli.\nIl Complesso Basilicale Paleocristiano è sorto su un’antica necropoli romana\, diventando poi uno dei più importanti luoghi di pellegrinaggio dell’antichità\, legato al culto di San Felice e a figure come San Paolino da Nola. Il nome deriva dal latino Coemeterium (cimitero) e il sito conserva una stratificazione di chiese\, affreschi e architetture che testimoniano la transizione dal paganesimo al cristianesimo. \n \n La passeggiata dura circa 2 ore\, comprese le soste per fotografare. Indossate scarpe comode.Consigliamo sempre di valutare bene la propria preparazione e resistenza fisica prima di aderire.Vi consigliamo inoltre un’attrezzatura fotografica versatile\, adatta soprattutto a paesaggi e architetture.\n Ci incontreremo all’ingresso del complesso alle ore 10:00\, Via Madonnelle\, 5\, 80030 Cimitile (NA).Partenza alle 10:00.\n La passeggiata non prevede prenotazione.\nhttps://maps.app.goo.gl/h35yEjvguFyQ1sAK\n 
URL:https://teknes.art/evento/passeggiata-fotografica-basiliche-di-cimitile/
LOCATION:Basiliche di Cimitile\, Via Madonnelle 5\, Cimitile\, Napoli\, 80030\, Italy
CATEGORIES:Passeggiata Fotografica
ATTACH;FMTTYPE=image/png:https://teknes.art/wp-content/uploads/2025/12/2a8dfb41-6b92-c5eb-d27c-30082cd0e56b-1.png
END:VEVENT
BEGIN:VEVENT
DTSTART;TZID=Europe/Berlin:20251228T180000
DTEND;TZID=Europe/Berlin:20251228T200000
DTSTAMP:20260419T145137
CREATED:20250522T183306Z
LAST-MODIFIED:20251208T133459Z
UID:13095-1766944800-1766952000@teknes.art
SUMMARY:TALK DI FOTOGRAFIA II | L'occhio Femminile - Essere donna in fotografia
DESCRIPTION:L’OCCHIO FEMMINILE II è  il 13° incontro della nostra rassegna di talk di fotografia d’autore.\nGli incontri\, a cadenza mensile\, hanno il formato dei Talks\, una discussione aperta e spontanea su una delle più potenti arti visive\, la fotografia.Attraverso i lavori di alcuni dei più importanti fotografi degli ultimi decenni\, affronteremo le tematiche storico-sociologiche trattate nelle immagini\, le motivazioni personali del fotografo\, i principi compositivi che le rendono potenti e comunicative.I Talks sono accessibili sia a chi di fotografia si interessa a tutti i livelli\, sia a chi sia semplicemente interessato a vivere un incontro culturale e informativo.\n \nL’OCCHIO FEMMINILE II è il secondo di una serie di TALK dedicati alle fotografe donne che hanno fatto la storia della fotografia. Donne che con coraggio\, in tempi in cui la figura maschile veniva considerata l’unica professionale\, hanno lavorato nel mondo della fotografia spaziando anche in diversi generi e/o mostrandosi come vere e proprie pioniere. La discussione\, dunque\, avrà lo scopo di mostrare la diversa sensibilità e gli elementi innovativi che hanno portato queste fotografe allo sviluppo storico della fotografia stessa.\n \n\n Il nostro Talk sarà ospitato nell’appartamento del nostro Socio fondatore Enrico\, in Via Quintiliano a Napoli. Comunicheremo l’indirizzo preciso via email a coloro che si registreranno. L’evento sarà accompagnato da un piccolo rinfresco.\n \n Quota di partecipazione €8 per i soci Téknes/FIAF\, €10 per chi non è socio. L’evento sarà accompagnato da un piccolo rinfresco.\n Prenotazione via mail a teknes.ac@gmail.com\, scrivendo “prenotazione talk fotografico” nell’oggetto
URL:https://teknes.art/evento/talk-di-fotografia-locchio-femminile/
LOCATION:Casa di Enrico\, via Quintiliano\, Napoli\, 80126\, Italy
CATEGORIES:Talk Fotografici
ATTACH;FMTTYPE=image/png:https://teknes.art/wp-content/uploads/2025/12/e77a7172-63e4-3e7b-4ab7-dcaee3f1f2b1.png
END:VEVENT
END:VCALENDAR