BEGIN:VCALENDAR
VERSION:2.0
PRODID:-// - ECPv6.15.20//NONSGML v1.0//EN
CALSCALE:GREGORIAN
METHOD:PUBLISH
X-ORIGINAL-URL:https://teknes.art
X-WR-CALDESC:Eventi per 
REFRESH-INTERVAL;VALUE=DURATION:PT1H
X-Robots-Tag:noindex
X-PUBLISHED-TTL:PT1H
BEGIN:VTIMEZONE
TZID:Europe/Berlin
BEGIN:DAYLIGHT
TZOFFSETFROM:+0100
TZOFFSETTO:+0200
TZNAME:CEST
DTSTART:20240331T010000
END:DAYLIGHT
BEGIN:STANDARD
TZOFFSETFROM:+0200
TZOFFSETTO:+0100
TZNAME:CET
DTSTART:20241027T010000
END:STANDARD
BEGIN:DAYLIGHT
TZOFFSETFROM:+0100
TZOFFSETTO:+0200
TZNAME:CEST
DTSTART:20250330T010000
END:DAYLIGHT
BEGIN:STANDARD
TZOFFSETFROM:+0200
TZOFFSETTO:+0100
TZNAME:CET
DTSTART:20251026T010000
END:STANDARD
BEGIN:DAYLIGHT
TZOFFSETFROM:+0100
TZOFFSETTO:+0200
TZNAME:CEST
DTSTART:20260329T010000
END:DAYLIGHT
BEGIN:STANDARD
TZOFFSETFROM:+0200
TZOFFSETTO:+0100
TZNAME:CET
DTSTART:20261025T010000
END:STANDARD
END:VTIMEZONE
BEGIN:VEVENT
DTSTART;VALUE=DATE:20250321
DTEND;VALUE=DATE:20250322
DTSTAMP:20260420T075143
CREATED:20250305T134341Z
LAST-MODIFIED:20250305T134341Z
UID:9944-1742515200-1742601599@teknes.art
SUMMARY:L'arte nella settima arte - L'arte diventa cinema
DESCRIPTION:Da Hitchcock a Kubrick\, i grandi maestri indiscussi del cinema\, che omaggiano gli artisti a cui si sono ispirati.Una riflessione su come i grandi registi della settima arte\, hanno preso in prestito un’opera d ‘arte creando un fermo immagine rumoroso e dinamico.Attraverso immagini e video esploriamo il connubio tra cinema e arte\, in un modo originale e intrigante.\nIl talk di arte è al suo secondo appuntamento ed ècurato da Rossana Laratta\, restauratrice e insegnante di arti visive.\n21 marzo dalle 18:00 alle 20:00A casa di Francesca\, zona via Piave\, Napoli.L’indirizzo preciso sarà fornito ai partecipanti.L’evento sarà accompagnato da un brunch.\nQuota di partecipazione € 10 (per i soci Téknes € prenotazione  teknes.ac@gmail.com
URL:https://teknes.art/evento/larte-nella-settima-arte-larte-diventa-cinema/
LOCATION:Casa di Francesca
ATTACH;FMTTYPE=image/png:https://teknes.art/wp-content/uploads/2025/03/LARTE-NELLA-SETTIMA-ARTE_03.png
END:VEVENT
END:VCALENDAR