BEGIN:VCALENDAR
VERSION:2.0
PRODID:-// - ECPv6.15.20//NONSGML v1.0//EN
CALSCALE:GREGORIAN
METHOD:PUBLISH
X-ORIGINAL-URL:https://teknes.art
X-WR-CALDESC:Eventi per 
REFRESH-INTERVAL;VALUE=DURATION:PT1H
X-Robots-Tag:noindex
X-PUBLISHED-TTL:PT1H
BEGIN:VTIMEZONE
TZID:Europe/Berlin
BEGIN:DAYLIGHT
TZOFFSETFROM:+0100
TZOFFSETTO:+0200
TZNAME:CEST
DTSTART:20240331T010000
END:DAYLIGHT
BEGIN:STANDARD
TZOFFSETFROM:+0200
TZOFFSETTO:+0100
TZNAME:CET
DTSTART:20241027T010000
END:STANDARD
BEGIN:DAYLIGHT
TZOFFSETFROM:+0100
TZOFFSETTO:+0200
TZNAME:CEST
DTSTART:20250330T010000
END:DAYLIGHT
BEGIN:STANDARD
TZOFFSETFROM:+0200
TZOFFSETTO:+0100
TZNAME:CET
DTSTART:20251026T010000
END:STANDARD
BEGIN:DAYLIGHT
TZOFFSETFROM:+0100
TZOFFSETTO:+0200
TZNAME:CEST
DTSTART:20260329T010000
END:DAYLIGHT
BEGIN:STANDARD
TZOFFSETFROM:+0200
TZOFFSETTO:+0100
TZNAME:CET
DTSTART:20261025T010000
END:STANDARD
END:VTIMEZONE
BEGIN:VEVENT
DTSTART;TZID=Europe/Berlin:20250309T100000
DTEND;TZID=Europe/Berlin:20250309T120000
DTSTAMP:20260420T075123
CREATED:20250305T110858Z
LAST-MODIFIED:20250305T144645Z
UID:9935-1741514400-1741521600@teknes.art
SUMMARY:Passeggiata Fotografica / street art nei quartieri spagnoli
DESCRIPTION: Dalla sinergia di Téknes Associazione Culturale e la comunità di Photonapoli vi proponiamo la passeggiata fotografica di marzo.\n Per questo mese abbiamo pensato ad un tour di murales nei Quartieri Spagnoli.\nTi piacciono la street art e la fotografia? Allora non perdere la nostra passeggiata fotografica\, un viaggio tra murales\, vicoli e storie nascoste nel cuore di Napoli.Da Maradona a Totò\, da Sofia Loren a Pino Daniele\, da Bud Spencer a San Gennaro\, il nostro itinerario toccherà murales famosi e meno famosi.\n La passeggiata dura circa 2 ore\, comprese le soste per fotografare. Indossate scarpe comode.Consigliamo sempre di valutare bene la propria preparazione e resistenza fisica prima di aderire.Vi consigliamo inoltre un’attrezzatura fotografica versatile\, adatta soprattutto ad inquadrature ravvicinate.\n Ci incontreremo a Piazzetta Duca d’Aosta\, davanti all’uscita della Funicolare Centrale. Partenza alle 10:00.\nGratuita e senza prenotazione.
URL:https://teknes.art/evento/passeggiata-fotografica-street-art-nei-quartieri-spagnoli/
LOCATION:piazzeta augusteo\, Piazza DucaD'aosta 7\, Napoli
CATEGORIES:Passeggiata Fotografica
ATTACH;FMTTYPE=image/png:https://teknes.art/wp-content/uploads/2025/03/25-03-PASSEGGIATA-FOTOGRAFICA-O.png
END:VEVENT
END:VCALENDAR